BEGIN:VCALENDAR
VERSION:2.0
PRODID:-//Landhope Farms - ECPv6.15.20//NONSGML v1.0//EN
CALSCALE:GREGORIAN
METHOD:PUBLISH
X-WR-CALNAME:Landhope Farms
X-ORIGINAL-URL:https://landhope.com
X-WR-CALDESC:Events for Landhope Farms
REFRESH-INTERVAL;VALUE=DURATION:PT1H
X-Robots-Tag:noindex
X-PUBLISHED-TTL:PT1H
BEGIN:VTIMEZONE
TZID:America/New_York
BEGIN:DAYLIGHT
TZOFFSETFROM:-0500
TZOFFSETTO:-0400
TZNAME:EDT
DTSTART:20250309T070000
END:DAYLIGHT
BEGIN:STANDARD
TZOFFSETFROM:-0400
TZOFFSETTO:-0500
TZNAME:EST
DTSTART:20251102T060000
END:STANDARD
BEGIN:DAYLIGHT
TZOFFSETFROM:-0500
TZOFFSETTO:-0400
TZNAME:EDT
DTSTART:20260308T070000
END:DAYLIGHT
BEGIN:STANDARD
TZOFFSETFROM:-0400
TZOFFSETTO:-0500
TZNAME:EST
DTSTART:20261101T060000
END:STANDARD
BEGIN:DAYLIGHT
TZOFFSETFROM:-0500
TZOFFSETTO:-0400
TZNAME:EDT
DTSTART:20270314T070000
END:DAYLIGHT
BEGIN:STANDARD
TZOFFSETFROM:-0400
TZOFFSETTO:-0500
TZNAME:EST
DTSTART:20271107T060000
END:STANDARD
END:VTIMEZONE
BEGIN:VEVENT
DTSTART;TZID=America/New_York:20260808T130000
DTEND;TZID=America/New_York:20260809T213000
DTSTAMP:20260423T140916
CREATED:20260420T155554Z
LAST-MODIFIED:20260420T161820Z
UID:10714-1786194000-1786311000@landhope.com
SUMMARY:NEW GARDEN AIR SHOW
DESCRIPTION:New Garden Flying Field\, 1235 Newark Road\, Toughkenamon\, PA 19374
URL:https://landhope.com/food-truck-schedule/new-garden-air-show/
END:VEVENT
BEGIN:VEVENT
DTSTART;VALUE=DATE:20260830
DTEND;VALUE=DATE:20260831
DTSTAMP:20260423T140916
CREATED:20260420T155602Z
LAST-MODIFIED:20260420T162812Z
UID:10716-1788048000-1788134399@landhope.com
SUMMARY:BRANDYWINE POLO - GERALD BALDING
DESCRIPTION:232 Polo Road Toughkenamon\, PA 19374
URL:https://landhope.com/food-truck-schedule/brandywine-polo-gerald-balding/
END:VEVENT
END:VCALENDAR